BEGIN:VCALENDAR
VERSION:2.0
PRODID:-//print.firespring.com//NONSGML kigkonsult.se iCalcreator 2.30.10//
CALSCALE:GREGORIAN
METHOD:PUBLISH
UID:c37cdbad-9c95-4845-a80c-7545cc9151af
X-WR-CALDESC:Take the hassle out of organizing events. Learn how to set up 
 an event in your event calendar\, add and customize event registration\, i
 ntegrate payments and export registrant information.
X-WR-RELCALID:ba177e56a1577ab87c3fbb1f26d5a2db
X-WR-TIMEZONE:America/Chicago
BEGIN:VTIMEZONE
TZID:America/Chicago
BEGIN:STANDARD
TZNAME:CST
DTSTART:20201101T020000
TZOFFSETFROM:-0500
TZOFFSETTO:-0600
RDATE:20211107T020000
RDATE:20221106T020000
END:STANDARD
BEGIN:DAYLIGHT
TZNAME:CDT
DTSTART:20210314T020000
TZOFFSETFROM:-0600
TZOFFSETTO:-0500
RDATE:20220313T020000
RDATE:20230312T020000
END:DAYLIGHT
END:VTIMEZONE
BEGIN:VEVENT
UID:4d6fd1fa-31f4-4c8c-b1eb-9b5df9c0cb2a
DTSTAMP:20260419T130011Z
DESCRIPTION:Take the hassle out of organizing events. Learn how to set up a
 n event in your event calendar\, add and customize event registration\, in
 tegrate payments and export registrant information.
DTSTART;TZID=America/Chicago:20210923T140000
DTEND;TZID=America/Chicago:20210923T144500
LOCATION:
SUMMARY:Springboard 102: All About Events
END:VEVENT
END:VCALENDAR
